BEGIN:VCALENDAR
VERSION:2.0
PRODID:-//Inter Brussels - ECPv6.2.0//NONSGML v1.0//EN
CALSCALE:GREGORIAN
METHOD:PUBLISH
X-ORIGINAL-URL:http://inter.brussels
X-WR-CALDESC:Events for Inter Brussels
REFRESH-INTERVAL;VALUE=DURATION:PT1H
X-Robots-Tag:noindex
X-PUBLISHED-TTL:PT1H
BEGIN:VTIMEZONE
TZID:Europe/Paris
BEGIN:DAYLIGHT
TZOFFSETFROM:+0100
TZOFFSETTO:+0200
TZNAME:CEST
DTSTART:20230326T010000
END:DAYLIGHT
BEGIN:STANDARD
TZOFFSETFROM:+0200
TZOFFSETTO:+0100
TZNAME:CET
DTSTART:20231029T010000
END:STANDARD
END:VTIMEZONE
BEGIN:VEVENT
DTSTART;TZID=Europe/Paris:20231020T180000
DTEND;TZID=Europe/Paris:20231020T190000
DTSTAMP:20260424T170400
CREATED:20231002T173152Z
LAST-MODIFIED:20231002T173152Z
UID:6644-1697824800-1697828400@inter.brussels
SUMMARY:TRAINING U8B | U9A | U11B | U11C
DESCRIPTION:
URL:http://inter.brussels/event/training-u8b-u9a-u11b-u11c-6/
LOCATION:EEB2\, Av. Oscar Jespers 75\, Brussels\, 1200\, Belgium
CATEGORIES:TRAINING,U11B,U11C,U8B,U9A
END:VEVENT
BEGIN:VEVENT
DTSTART;TZID=Europe/Paris:20231027T180000
DTEND;TZID=Europe/Paris:20231027T190000
DTSTAMP:20260424T170400
CREATED:20231002T173202Z
LAST-MODIFIED:20231002T173202Z
UID:6645-1698429600-1698433200@inter.brussels
SUMMARY:TRAINING U8B | U9A | U11B | U11C
DESCRIPTION:
URL:http://inter.brussels/event/training-u8b-u9a-u11b-u11c-7/
LOCATION:EEB2\, Av. Oscar Jespers 75\, Brussels\, 1200\, Belgium
CATEGORIES:TRAINING,U11B,U11C,U8B,U9A
END:VEVENT
END:VCALENDAR