BEGIN:VCALENDAR
VERSION:2.0
PRODID:-//Inter Brussels - ECPv6.2.0//NONSGML v1.0//EN
CALSCALE:GREGORIAN
METHOD:PUBLISH
X-ORIGINAL-URL:http://inter.brussels
X-WR-CALDESC:Events for Inter Brussels
REFRESH-INTERVAL;VALUE=DURATION:PT1H
X-Robots-Tag:noindex
X-PUBLISHED-TTL:PT1H
BEGIN:VTIMEZONE
TZID:Europe/Paris
BEGIN:DAYLIGHT
TZOFFSETFROM:+0100
TZOFFSETTO:+0200
TZNAME:CEST
DTSTART:20230326T010000
END:DAYLIGHT
BEGIN:STANDARD
TZOFFSETFROM:+0200
TZOFFSETTO:+0100
TZNAME:CET
DTSTART:20231029T010000
END:STANDARD
END:VTIMEZONE
BEGIN:VEVENT
DTSTART;TZID=Europe/Paris:20231013T191000
DTEND;TZID=Europe/Paris:20231013T201000
DTSTAMP:20260422T165519
CREATED:20231002T173232Z
LAST-MODIFIED:20231002T173232Z
UID:6647-1697224200-1697227800@inter.brussels
SUMMARY:TRAINING U8A | U9B | U10 | U11A
DESCRIPTION:
URL:http://inter.brussels/event/training-u8a-u9b-u10-u11a-6/
LOCATION:EEB2\, Av. Oscar Jespers 75\, Brussels\, 1200\, Belgium
CATEGORIES:TRAINING,U10,U11A,U8A,U9B
END:VEVENT
END:VCALENDAR