BEGIN:VCALENDAR
VERSION:2.0
PRODID:-//Inter Brussels - ECPv6.2.0//NONSGML v1.0//EN
CALSCALE:GREGORIAN
METHOD:PUBLISH
X-ORIGINAL-URL:http://inter.brussels
X-WR-CALDESC:Events for Inter Brussels
REFRESH-INTERVAL;VALUE=DURATION:PT1H
X-Robots-Tag:noindex
X-PUBLISHED-TTL:PT1H
BEGIN:VTIMEZONE
TZID:Europe/Paris
BEGIN:DAYLIGHT
TZOFFSETFROM:+0100
TZOFFSETTO:+0200
TZNAME:CEST
DTSTART:20230326T010000
END:DAYLIGHT
BEGIN:STANDARD
TZOFFSETFROM:+0200
TZOFFSETTO:+0100
TZNAME:CET
DTSTART:20231029T010000
END:STANDARD
END:VTIMEZONE
BEGIN:VEVENT
DTSTART;TZID=Europe/Paris:20230929T191000
DTEND;TZID=Europe/Paris:20230929T201000
DTSTAMP:20260422T165518
CREATED:20230826T203045Z
LAST-MODIFIED:20230826T203045Z
UID:6327-1696014600-1696018200@inter.brussels
SUMMARY:TRAINING U8A | U9B | U10 | U11A
DESCRIPTION:
URL:http://inter.brussels/event/training-u8a-u9b-u10-u11a-4/
LOCATION:EEB2\, Av. Oscar Jespers 75\, Brussels\, 1200\, Belgium
CATEGORIES:TRAINING,U10,U11A,U8A,U9B
END:VEVENT
BEGIN:VEVENT
DTSTART;TZID=Europe/Paris:20230929T201500
DTEND;TZID=Europe/Paris:20230929T211500
DTSTAMP:20260422T165518
CREATED:20230826T203625Z
LAST-MODIFIED:20230826T203625Z
UID:6333-1696018500-1696022100@inter.brussels
SUMMARY:TRAINING U12A | U12B | U13 | U15
DESCRIPTION:
URL:http://inter.brussels/event/training-u12a-u12b-u13-u15-4/
LOCATION:EEB2\, Av. Oscar Jespers 75\, Brussels\, 1200\, Belgium
CATEGORIES:TRAINING,U10,U11A,U8A,U9B
END:VEVENT
BEGIN:VEVENT
DTSTART;TZID=Europe/Paris:20230929T201500
DTEND;TZID=Europe/Paris:20230929T211500
DTSTAMP:20260422T165518
CREATED:20231002T173359Z
LAST-MODIFIED:20231002T173359Z
UID:6652-1696018500-1696022100@inter.brussels
SUMMARY:TRAINING U12A | U12B | U13 | U15
DESCRIPTION:
URL:http://inter.brussels/event/training-u12a-u12b-u13-u15-6/
LOCATION:EEB2\, Av. Oscar Jespers 75\, Brussels\, 1200\, Belgium
CATEGORIES:TRAINING,U10,U11A,U8A,U9B
END:VEVENT
END:VCALENDAR