BEGIN:VCALENDAR
VERSION:2.0
PRODID:-//Inter Brussels - ECPv6.2.0//NONSGML v1.0//EN
CALSCALE:GREGORIAN
METHOD:PUBLISH
X-ORIGINAL-URL:http://inter.brussels
X-WR-CALDESC:Events for Inter Brussels
REFRESH-INTERVAL;VALUE=DURATION:PT1H
X-Robots-Tag:noindex
X-PUBLISHED-TTL:PT1H
BEGIN:VTIMEZONE
TZID:Europe/Paris
BEGIN:DAYLIGHT
TZOFFSETFROM:+0100
TZOFFSETTO:+0200
TZNAME:CEST
DTSTART:20230326T010000
END:DAYLIGHT
BEGIN:STANDARD
TZOFFSETFROM:+0200
TZOFFSETTO:+0100
TZNAME:CET
DTSTART:20231029T010000
END:STANDARD
END:VTIMEZONE
BEGIN:VEVENT
DTSTART;VALUE=DATE:20230903
DTEND;VALUE=DATE:20230904
DTSTAMP:20260422T131247
CREATED:20230826T204109Z
LAST-MODIFIED:20230826T204109Z
UID:6337-1693699200-1693785599@inter.brussels
SUMMARY:TRAINING
DESCRIPTION:The training hours of each age group are given every Tuesday preceding the training Sunday – the information is sent to the groups msg
URL:http://inter.brussels/event/training-2/
CATEGORIES:TRAINING,U10,U11A,U11B,U11C,U12A,U12B,U13,U15,U8A,U8B,U9A,U9B
END:VEVENT
BEGIN:VEVENT
DTSTART;TZID=Europe/Paris:20230908T191000
DTEND;TZID=Europe/Paris:20230908T201000
DTSTAMP:20260422T131247
CREATED:20230826T193050Z
LAST-MODIFIED:20230826T193050Z
UID:6315-1694200200-1694203800@inter.brussels
SUMMARY:TRAINING U8A | U9B | U10 | U11A
DESCRIPTION:
URL:http://inter.brussels/event/training-u8a-u9b-u10-u11a/
LOCATION:EEB2\, Av. Oscar Jespers 75\, Brussels\, 1200\, Belgium
CATEGORIES:TRAINING,U10,U11A,U8A,U9B
END:VEVENT
BEGIN:VEVENT
DTSTART;TZID=Europe/Paris:20230908T201500
DTEND;TZID=Europe/Paris:20230908T211500
DTSTAMP:20260422T131247
CREATED:20230826T193432Z
LAST-MODIFIED:20230826T193432Z
UID:6317-1694204100-1694207700@inter.brussels
SUMMARY:TRAINING U12A | U12B | U13 | U15
DESCRIPTION:
URL:http://inter.brussels/event/training-u12a-u12b-u13-u15/
LOCATION:EEB2\, Av. Oscar Jespers 75\, Brussels\, 1200\, Belgium
CATEGORIES:TRAINING,U10,U11A,U8A,U9B
END:VEVENT
BEGIN:VEVENT
DTSTART;VALUE=DATE:20230910
DTEND;VALUE=DATE:20230911
DTSTAMP:20260422T131247
CREATED:20230826T204259Z
LAST-MODIFIED:20230826T204259Z
UID:6339-1694304000-1694390399@inter.brussels
SUMMARY:TRAINING
DESCRIPTION:The training hours of each age group are given every Tuesday preceding the training Sunday – the information is sent to the groups msg
URL:http://inter.brussels/event/training-3/
CATEGORIES:TRAINING,U10,U11A,U11B,U11C,U12A,U12B,U13,U15,U8A,U8B,U9A,U9B
END:VEVENT
BEGIN:VEVENT
DTSTART;TZID=Europe/Paris:20230915T191000
DTEND;TZID=Europe/Paris:20230915T201000
DTSTAMP:20260422T131247
CREATED:20230826T203030Z
LAST-MODIFIED:20230826T203030Z
UID:6325-1694805000-1694808600@inter.brussels
SUMMARY:TRAINING U8A | U9B | U10 | U11A
DESCRIPTION:
URL:http://inter.brussels/event/training-u8a-u9b-u10-u11a-2/
LOCATION:EEB2\, Av. Oscar Jespers 75\, Brussels\, 1200\, Belgium
CATEGORIES:TRAINING,U10,U11A,U8A,U9B
END:VEVENT
BEGIN:VEVENT
DTSTART;TZID=Europe/Paris:20230915T201500
DTEND;TZID=Europe/Paris:20230915T211500
DTSTAMP:20260422T131247
CREATED:20230826T203612Z
LAST-MODIFIED:20230826T203612Z
UID:6331-1694808900-1694812500@inter.brussels
SUMMARY:TRAINING U12A | U12B | U13 | U15
DESCRIPTION:
URL:http://inter.brussels/event/training-u12a-u12b-u13-u15-2/
LOCATION:EEB2\, Av. Oscar Jespers 75\, Brussels\, 1200\, Belgium
CATEGORIES:TRAINING,U10,U11A,U8A,U9B
END:VEVENT
BEGIN:VEVENT
DTSTART;VALUE=DATE:20230917
DTEND;VALUE=DATE:20230918
DTSTAMP:20260422T131247
CREATED:20230826T204306Z
LAST-MODIFIED:20230826T204306Z
UID:6340-1694908800-1694995199@inter.brussels
SUMMARY:TRAINING
DESCRIPTION:The training hours of each age group are given every Tuesday preceding the training Sunday – the information is sent to the groups msg
URL:http://inter.brussels/event/training-4/
CATEGORIES:TRAINING,U10,U11A,U11B,U11C,U12A,U12B,U13,U15,U8A,U8B,U9A,U9B
END:VEVENT
BEGIN:VEVENT
DTSTART;TZID=Europe/Paris:20230922T191000
DTEND;TZID=Europe/Paris:20230922T201000
DTSTAMP:20260422T131247
CREATED:20230826T203038Z
LAST-MODIFIED:20230826T203038Z
UID:6326-1695409800-1695413400@inter.brussels
SUMMARY:TRAINING U8A | U9B | U10 | U11A
DESCRIPTION:
URL:http://inter.brussels/event/training-u8a-u9b-u10-u11a-3/
LOCATION:EEB2\, Av. Oscar Jespers 75\, Brussels\, 1200\, Belgium
CATEGORIES:TRAINING,U10,U11A,U8A,U9B
END:VEVENT
BEGIN:VEVENT
DTSTART;TZID=Europe/Paris:20230922T201500
DTEND;TZID=Europe/Paris:20230922T211500
DTSTAMP:20260422T131247
CREATED:20230826T203617Z
LAST-MODIFIED:20230826T203617Z
UID:6332-1695413700-1695417300@inter.brussels
SUMMARY:TRAINING U12A | U12B | U13 | U15
DESCRIPTION:
URL:http://inter.brussels/event/training-u12a-u12b-u13-u15-3/
LOCATION:EEB2\, Av. Oscar Jespers 75\, Brussels\, 1200\, Belgium
CATEGORIES:TRAINING,U10,U11A,U8A,U9B
END:VEVENT
BEGIN:VEVENT
DTSTART;VALUE=DATE:20230924
DTEND;VALUE=DATE:20230925
DTSTAMP:20260422T131247
CREATED:20230826T204315Z
LAST-MODIFIED:20230826T204315Z
UID:6341-1695513600-1695599999@inter.brussels
SUMMARY:TRAINING
DESCRIPTION:The training hours of each age group are given every Tuesday preceding the training Sunday – the information is sent to the groups msg
URL:http://inter.brussels/event/training-5/
CATEGORIES:TRAINING,U10,U11A,U11B,U11C,U12A,U12B,U13,U15,U8A,U8B,U9A,U9B
END:VEVENT
BEGIN:VEVENT
DTSTART;TZID=Europe/Paris:20230929T191000
DTEND;TZID=Europe/Paris:20230929T201000
DTSTAMP:20260422T131247
CREATED:20230826T203045Z
LAST-MODIFIED:20230826T203045Z
UID:6327-1696014600-1696018200@inter.brussels
SUMMARY:TRAINING U8A | U9B | U10 | U11A
DESCRIPTION:
URL:http://inter.brussels/event/training-u8a-u9b-u10-u11a-4/
LOCATION:EEB2\, Av. Oscar Jespers 75\, Brussels\, 1200\, Belgium
CATEGORIES:TRAINING,U10,U11A,U8A,U9B
END:VEVENT
BEGIN:VEVENT
DTSTART;TZID=Europe/Paris:20230929T201500
DTEND;TZID=Europe/Paris:20230929T211500
DTSTAMP:20260422T131247
CREATED:20230826T203625Z
LAST-MODIFIED:20230826T203625Z
UID:6333-1696018500-1696022100@inter.brussels
SUMMARY:TRAINING U12A | U12B | U13 | U15
DESCRIPTION:
URL:http://inter.brussels/event/training-u12a-u12b-u13-u15-4/
LOCATION:EEB2\, Av. Oscar Jespers 75\, Brussels\, 1200\, Belgium
CATEGORIES:TRAINING,U10,U11A,U8A,U9B
END:VEVENT
BEGIN:VEVENT
DTSTART;TZID=Europe/Paris:20230929T201500
DTEND;TZID=Europe/Paris:20230929T211500
DTSTAMP:20260422T131247
CREATED:20231002T173359Z
LAST-MODIFIED:20231002T173359Z
UID:6652-1696018500-1696022100@inter.brussels
SUMMARY:TRAINING U12A | U12B | U13 | U15
DESCRIPTION:
URL:http://inter.brussels/event/training-u12a-u12b-u13-u15-6/
LOCATION:EEB2\, Av. Oscar Jespers 75\, Brussels\, 1200\, Belgium
CATEGORIES:TRAINING,U10,U11A,U8A,U9B
END:VEVENT
END:VCALENDAR