BEGIN:VCALENDAR
VERSION:2.0
PRODID:-//Inter Brussels - ECPv6.2.0//NONSGML v1.0//EN
CALSCALE:GREGORIAN
METHOD:PUBLISH
X-ORIGINAL-URL:http://inter.brussels
X-WR-CALDESC:Events for Inter Brussels
REFRESH-INTERVAL;VALUE=DURATION:PT1H
X-Robots-Tag:noindex
X-PUBLISHED-TTL:PT1H
BEGIN:VTIMEZONE
TZID:Europe/Paris
BEGIN:DAYLIGHT
TZOFFSETFROM:+0100
TZOFFSETTO:+0200
TZNAME:CEST
DTSTART:20240331T010000
END:DAYLIGHT
BEGIN:STANDARD
TZOFFSETFROM:+0200
TZOFFSETTO:+0100
TZNAME:CET
DTSTART:20241027T010000
END:STANDARD
END:VTIMEZONE
BEGIN:VEVENT
DTSTART;TZID=Europe/Paris:20240525T000000
DTEND;TZID=Europe/Paris:20240526T160000
DTSTAMP:20260422T235053
CREATED:20230815T065532Z
LAST-MODIFIED:20240429T074853Z
UID:5947-1716595200-1716739200@inter.brussels
SUMMARY:IB LEVEL UP CUP
DESCRIPTION:SATURDAY 12:00 – 19:00 \nall U15 with U13 \nall U12 with U11 \nSUNDAY 09:00 – 16:00 \nall U10 with U9 \nall U8 with U6
URL:http://inter.brussels/event/ib-levelup-cup/
LOCATION:VUB\, Boulevard du Triomphe\, toegang 8\, Brussels\, Ixelles\, 1040\, Belgium
CATEGORIES:IB DAY
ATTACH;FMTTYPE=image/png:http://inter.brussels/wp-content/uploads/2024/04/INFOObszar-roboczy-1.png
END:VEVENT
END:VCALENDAR