BEGIN:VCALENDAR
VERSION:2.0
PRODID:-//Inter Brussels - ECPv6.2.0//NONSGML v1.0//EN
CALSCALE:GREGORIAN
METHOD:PUBLISH
X-WR-CALNAME:Inter Brussels
X-ORIGINAL-URL:http://inter.brussels
X-WR-CALDESC:Events for Inter Brussels
REFRESH-INTERVAL;VALUE=DURATION:PT1H
X-Robots-Tag:noindex
X-PUBLISHED-TTL:PT1H
BEGIN:VTIMEZONE
TZID:Europe/Paris
BEGIN:DAYLIGHT
TZOFFSETFROM:+0100
TZOFFSETTO:+0200
TZNAME:CEST
DTSTART:20230326T010000
END:DAYLIGHT
BEGIN:STANDARD
TZOFFSETFROM:+0200
TZOFFSETTO:+0100
TZNAME:CET
DTSTART:20231029T010000
END:STANDARD
END:VTIMEZONE
BEGIN:VEVENT
DTSTART;TZID=Europe/Paris:20230902T150000
DTEND;TZID=Europe/Paris:20230902T170000
DTSTAMP:20260423T153620
CREATED:20230807T203124Z
LAST-MODIFIED:20230816T080511Z
UID:5651-1693666800-1693674000@inter.brussels
SUMMARY:issuing club kits
DESCRIPTION:We will be giving away football sets for the new 2023/2024 season\nWe will also accept payments for the fall round on this day.\nSee you there on VUB
URL:http://inter.brussels/event/issuing-club-kits-2/
LOCATION:VUB\, Boulevard du Triomphe\, toegang 8\, Brussels\, Ixelles\, 1040\, Belgium
CATEGORIES:IB DAY
END:VEVENT
END:VCALENDAR